BEGIN:VCALENDAR
VERSION:2.0
PRODID:-//Škola Zaječice - ECPv5.8.0//NONSGML v1.0//EN
CALSCALE:GREGORIAN
METHOD:PUBLISH
X-WR-CALNAME:Škola Zaječice
X-ORIGINAL-URL:https://www.skolazajecice.cz
X-WR-CALDESC:Akce na Škola Zaječice
BEGIN:VTIMEZONE
TZID:Europe/Prague
BEGIN:DAYLIGHT
TZOFFSETFROM:+0100
TZOFFSETTO:+0200
TZNAME:CEST
DTSTART:20260329T010000
END:DAYLIGHT
BEGIN:STANDARD
TZOFFSETFROM:+0200
TZOFFSETTO:+0100
TZNAME:CET
DTSTART:20261025T010000
END:STANDARD
END:VTIMEZONE
BEGIN:VEVENT
DTSTART;VALUE=DATE:20260430
DTEND;VALUE=DATE:20260501
DTSTAMP:20260425T155449
CREATED:20260410T093338Z
LAST-MODIFIED:20260410T093338Z
UID:23211-1777507200-1777593599@www.skolazajecice.cz
SUMMARY:Ukliďme Česko
DESCRIPTION:Ukliďme Česko\n✓ tradiční účast v celostátní akci\n✓ pro žáky 1. – 5. ročníku
URL:https://www.skolazajecice.cz/udalost/uklidme-cesko-4/
END:VEVENT
END:VCALENDAR